Package: interacCircos Version: 1.17.0 Command: /home/biocbuild/bbs-3.21-bioc/R/bin/R CMD check --install=check:interacCircos.install-out.txt --library=/home/biocbuild/bbs-3.21-bioc/R/site-library --timings interacCircos_1.17.0.tar.gz StartedAt: 2025-02-03 23:29:23 -0500 (Mon, 03 Feb 2025) EndedAt: 2025-02-03 23:29:56 -0500 (Mon, 03 Feb 2025) EllapsedTime: 33.0 seconds RetCode: 0 Status: OK CheckDir: interacCircos.Rcheck Warnings: 0