Package: interacCircos Version: 1.17.0 Command: /Library/Frameworks/R.framework/Resources/bin/R CMD build --keep-empty-dirs --no-resave-data interacCircos StartedAt: 2025-02-03 17:11:03 -0500 (Mon, 03 Feb 2025) EndedAt: 2025-02-03 17:11:14 -0500 (Mon, 03 Feb 2025) EllapsedTime: 10.3 seconds RetCode: 0 Status: OK PackageFile: interacCircos_1.17.0.tar.gz PackageFileSize: 710.3 KiB