Package: interacCircos Version: 1.17.0 Command: /home/biocbuild/R/R/bin/R CMD build --keep-empty-dirs --no-resave-data interacCircos StartedAt: 2025-01-28 23:46:02 -0000 (Tue, 28 Jan 2025) EndedAt: 2025-01-28 23:46:12 -0000 (Tue, 28 Jan 2025) EllapsedTime: 10.0 seconds RetCode: 0 Status: OK PackageFile: interacCircos_1.17.0.tar.gz PackageFileSize: 878.7 KiB