Package: intansv Version: 1.49.0 Command: chmod a+r intansv -R && F:\biocbuild\bbs-3.22-bioc\R\bin\R.exe CMD build --keep-empty-dirs --no-resave-data intansv StartedAt: 2025-08-14 20:57:18 -0400 (Thu, 14 Aug 2025) EndedAt: 2025-08-14 20:59:31 -0400 (Thu, 14 Aug 2025) EllapsedTime: 133.1 seconds RetCode: 0 Status: OK PackageFile: intansv_1.49.0.tar.gz PackageFileSize: 613.7 KiB