Package: intansv Version: 1.49.0 Command: rm -rf intansv.buildbin-libdir && mkdir intansv.buildbin-libdir && F:\biocbuild\bbs-3.22-bioc\R\bin\R.exe CMD INSTALL --build --library=intansv.buildbin-libdir intansv_1.49.0.tar.gz StartedAt: 2025-08-15 10:30:50 -0400 (Fri, 15 Aug 2025) EndedAt: 2025-08-15 10:31:56 -0400 (Fri, 15 Aug 2025) EllapsedTime: 65.8 seconds RetCode: 0 Status: OK PackageFile: intansv_1.49.0.zip PackageFileSize: 701.2 KiB