Package: intansv Version: 1.49.0 Maintainer: Wen Yao MaintainerEmail: ywhzau at gmail.com git_url: https://git.bioconductor.org/packages/intansv git_branch: devel git_last_commit: c62f439 git_last_commit_date: 2025-04-15 10:25:20 -0400 (Tue, 15 Apr 2025)