Package: infinityFlow Version: 1.19.0 Command: rm -rf infinityFlow.buildbin-libdir && mkdir infinityFlow.buildbin-libdir && F:\biocbuild\bbs-3.22-bioc\R\bin\R.exe CMD INSTALL --build --library=infinityFlow.buildbin-libdir infinityFlow_1.19.0.tar.gz StartedAt: 2025-08-15 10:30:37 -0400 (Fri, 15 Aug 2025) EndedAt: 2025-08-15 10:31:20 -0400 (Fri, 15 Aug 2025) EllapsedTime: 43.3 seconds RetCode: 0 Status: OK PackageFile: infinityFlow_1.19.0.zip PackageFileSize: 1.782 MiB