Package: infercnv Version: 1.23.0 Command: /Library/Frameworks/R.framework/Resources/bin/R CMD INSTALL infercnv StartedAt: 2025-02-02 15:32:46 -0500 (Sun, 02 Feb 2025) EndedAt: 2025-02-02 15:33:48 -0500 (Sun, 02 Feb 2025) EllapsedTime: 62.0 seconds RetCode: 0 Status: OK