Package: infercnv Version: 1.23.0 Command: rm -rf infercnv.buildbin-libdir && mkdir infercnv.buildbin-libdir && /Users/biocbuild/BBS/utils/build-universal.sh infercnv_1.23.0.tar.gz /Library/Frameworks/R.framework/Resources/bin/R infercnv.buildbin-libdir StartedAt: 2025-02-03 00:28:21 -0500 (Mon, 03 Feb 2025) EndedAt: 2025-02-03 00:29:29 -0500 (Mon, 03 Feb 2025) EllapsedTime: 68.2 seconds RetCode: 0 Status: OK PackageFile: infercnv_1.23.0.tgz PackageFileSize: 4.345 MiB