Package: impute Version: 1.83.0 Command: /home/biocbuild/R/R/bin/R CMD build --keep-empty-dirs --no-resave-data impute StartedAt: 2025-09-30 00:45:15 -0000 (Tue, 30 Sep 2025) EndedAt: 2025-09-30 00:45:16 -0000 (Tue, 30 Sep 2025) EllapsedTime: 1.0 seconds RetCode: 0 Status: OK PackageFile: impute_1.83.0.tar.gz PackageFileSize: 626.6 KiB