Package: impute Version: 1.81.0 Command: /Library/Frameworks/R.framework/Resources/bin/R CMD INSTALL impute StartedAt: 2025-02-16 15:03:25 -0500 (Sun, 16 Feb 2025) EndedAt: 2025-02-16 15:03:40 -0500 (Sun, 16 Feb 2025) EllapsedTime: 14.7 seconds RetCode: 0 Status: OK