Package: impute Version: 1.81.0 Command: rm -rf impute.buildbin-libdir && mkdir impute.buildbin-libdir && /Users/biocbuild/BBS/utils/build-universal.sh impute_1.81.0.tar.gz /Library/Frameworks/R.framework/Resources/bin/R impute.buildbin-libdir StartedAt: 2025-02-17 00:26:06 -0500 (Mon, 17 Feb 2025) EndedAt: 2025-02-17 00:26:15 -0500 (Mon, 17 Feb 2025) EllapsedTime: 9.3 seconds RetCode: 0 Status: OK PackageFile: impute_1.81.0.tgz PackageFileSize: 646.2 KiB