Package: impute Version: 1.83.0 Maintainer: Balasubramanian Narasimhan MaintainerEmail: naras at stat.Stanford.EDU git_url: https://git.bioconductor.org/packages/impute git_branch: devel git_last_commit: 2575697 git_last_commit_date: 2025-04-15 09:17:36 -0400 (Tue, 15 Apr 2025)