Package: immunotation Version: 1.17.1 Command: chmod a+r immunotation -R && F:\biocbuild\bbs-3.22-bioc\R\bin\R.exe CMD build --keep-empty-dirs --no-resave-data immunotation StartedAt: 2025-08-14 20:55:05 -0400 (Thu, 14 Aug 2025) EndedAt: 2025-08-14 20:58:29 -0400 (Thu, 14 Aug 2025) EllapsedTime: 204.6 seconds RetCode: 1 Status: ERROR PackageFile: None PackageFileSize: NA