Package: immunotation Version: 1.17.0 Command: rm -rf immunotation.buildbin-libdir && mkdir immunotation.buildbin-libdir && F:\biocbuild\bbs-3.22-bioc\R\bin\R.exe CMD INSTALL --build --library=immunotation.buildbin-libdir immunotation_1.17.0.tar.gz StartedAt: 2025-05-10 08:45:22 -0400 (Sat, 10 May 2025) EndedAt: 2025-05-10 08:47:46 -0400 (Sat, 10 May 2025) EllapsedTime: 143.5 seconds RetCode: 0 Status: OK PackageFile: immunotation_1.17.0.zip PackageFileSize: 4.05 MiB