Package: immunotation Version: 1.17.0 Command: rm -rf immunotation.buildbin-libdir && mkdir immunotation.buildbin-libdir && /Users/biocbuild/BBS/utils/build-universal.sh immunotation_1.17.0.tar.gz /Library/Frameworks/R.framework/Resources/bin/R immunotation.buildbin-libdir StartedAt: 2025-05-05 23:28:23 -0400 (Mon, 05 May 2025) EndedAt: 2025-05-05 23:29:10 -0400 (Mon, 05 May 2025) EllapsedTime: 47.0 seconds RetCode: 0 Status: OK PackageFile: immunotation_1.17.0.tgz PackageFileSize: 4.224 MiB