Package: immunogenViewer Version: 1.1.0 Command: E:\biocbuild\bbs-3.21-bioc\R\bin\R.exe CMD check --no-multiarch --install=check:immunogenViewer.install-out.txt --library=E:\biocbuild\bbs-3.21-bioc\R\library --no-vignettes --timings immunogenViewer_1.1.0.tar.gz StartedAt: 2025-02-06 02:36:15 -0500 (Thu, 06 Feb 2025) EndedAt: 2025-02-06 02:39:04 -0500 (Thu, 06 Feb 2025) EllapsedTime: 168.8 seconds RetCode: 0 Status: OK CheckDir: immunogenViewer.Rcheck Warnings: 0