Package: immunogenViewer Version: 1.1.0 Command: chmod a+r immunogenViewer -R && E:\biocbuild\bbs-3.21-bioc\R\bin\R.exe CMD build --keep-empty-dirs --no-resave-data immunogenViewer StartedAt: 2025-02-05 19:26:44 -0500 (Wed, 05 Feb 2025) EndedAt: 2025-02-05 19:28:16 -0500 (Wed, 05 Feb 2025) EllapsedTime: 92.6 seconds RetCode: 0 Status: OK PackageFile: immunogenViewer_1.1.0.tar.gz PackageFileSize: 494.1 KiB