Package: immunogenViewer Version: 1.1.0 Command: rm -rf immunogenViewer.buildbin-libdir && mkdir immunogenViewer.buildbin-libdir && E:\biocbuild\bbs-3.21-bioc\R\bin\R.exe CMD INSTALL --build --library=immunogenViewer.buildbin-libdir immunogenViewer_1.1.0.tar.gz StartedAt: 2025-02-06 08:15:54 -0500 (Thu, 06 Feb 2025) EndedAt: 2025-02-06 08:16:49 -0500 (Thu, 06 Feb 2025) EllapsedTime: 54.9 seconds RetCode: 0 Status: OK PackageFile: immunogenViewer_1.1.0.zip PackageFileSize: 510.6 KiB