Package: immunogenViewer Version: 1.1.0 Command: /home/biocbuild/bbs-3.21-bioc/R/bin/R CMD INSTALL immunogenViewer StartedAt: 2025-02-04 15:29:35 -0500 (Tue, 04 Feb 2025) EndedAt: 2025-02-04 15:29:49 -0500 (Tue, 04 Feb 2025) EllapsedTime: 13.9 seconds RetCode: 0 Status: OK