Package: immunogenViewer Version: 1.1.0 Command: /home/biocbuild/bbs-3.21-bioc/R/bin/R CMD check --install=check:immunogenViewer.install-out.txt --library=/home/biocbuild/bbs-3.21-bioc/R/site-library --timings immunogenViewer_1.1.0.tar.gz StartedAt: 2025-02-04 23:17:40 -0500 (Tue, 04 Feb 2025) EndedAt: 2025-02-04 23:20:17 -0500 (Tue, 04 Feb 2025) EllapsedTime: 157.1 seconds RetCode: 0 Status: OK CheckDir: immunogenViewer.Rcheck Warnings: 0