Package: immunogenViewer Version: 1.1.0 Command: /Library/Frameworks/R.framework/Resources/bin/R CMD INSTALL immunogenViewer StartedAt: 2025-02-04 15:16:17 -0500 (Tue, 04 Feb 2025) EndedAt: 2025-02-04 15:16:42 -0500 (Tue, 04 Feb 2025) EllapsedTime: 24.9 seconds RetCode: 0 Status: OK