Package: immunogenViewer Version: 1.3.0 Command: /Library/Frameworks/R.framework/Resources/bin/R CMD build --keep-empty-dirs --no-resave-data immunogenViewer StartedAt: 2025-05-04 17:09:48 -0400 (Sun, 04 May 2025) EndedAt: 2025-05-04 17:10:38 -0400 (Sun, 04 May 2025) EllapsedTime: 50.1 seconds RetCode: 1 Status: ERROR PackageFile: None PackageFileSize: NA