Package: immunogenViewer Version: 1.1.0 Command: rm -rf immunogenViewer.buildbin-libdir && mkdir immunogenViewer.buildbin-libdir && /Users/biocbuild/BBS/utils/build-universal.sh immunogenViewer_1.1.0.tar.gz /Library/Frameworks/R.framework/Resources/bin/R immunogenViewer.buildbin-libdir StartedAt: 2025-02-05 00:44:53 -0500 (Wed, 05 Feb 2025) EndedAt: 2025-02-05 00:45:17 -0500 (Wed, 05 Feb 2025) EllapsedTime: 24.5 seconds RetCode: 0 Status: OK PackageFile: immunogenViewer_1.1.0.tgz PackageFileSize: 669 KiB