Package: immunogenViewer Version: 1.1.0 Command: /home/biocbuild/R/R/bin/R CMD INSTALL immunogenViewer StartedAt: 2025-01-29 19:51:03 -0000 (Wed, 29 Jan 2025) EndedAt: 2025-01-29 19:51:22 -0000 (Wed, 29 Jan 2025) EllapsedTime: 18.9 seconds RetCode: 0 Status: OK