Package: immunogenViewer Version: 1.1.0 Command: /home/biocbuild/R/R/bin/R CMD check --install=check:immunogenViewer.install-out.txt --library=/home/biocbuild/R/R/site-library --no-vignettes --timings immunogenViewer_1.1.0.tar.gz StartedAt: 2025-01-28 11:37:19 -0000 (Tue, 28 Jan 2025) EndedAt: 2025-01-28 11:40:31 -0000 (Tue, 28 Jan 2025) EllapsedTime: 192.2 seconds RetCode: 0 Status: OK CheckDir: immunogenViewer.Rcheck Warnings: 0