Package: immunogenViewer Version: 1.1.0 Command: /Library/Frameworks/R.framework/Resources/bin/R CMD INSTALL immunogenViewer StartedAt: 2025-02-05 15:09:24 -0500 (Wed, 05 Feb 2025) EndedAt: 2025-02-05 15:09:31 -0500 (Wed, 05 Feb 2025) EllapsedTime: 7.5 seconds RetCode: 0 Status: OK