Package: immunogenViewer Version: 1.1.0 Command: /Library/Frameworks/R.framework/Resources/bin/R CMD check --install=check:immunogenViewer.install-out.txt --library=/Library/Frameworks/R.framework/Resources/library --no-vignettes --timings immunogenViewer_1.1.0.tar.gz StartedAt: 2025-02-05 19:49:00 -0500 (Wed, 05 Feb 2025) EndedAt: 2025-02-05 19:50:15 -0500 (Wed, 05 Feb 2025) EllapsedTime: 75.9 seconds RetCode: 0 Status: OK CheckDir: immunogenViewer.Rcheck Warnings: 0