Package: immunoClust Version: 1.41.2 Command: /home/biocbuild/bbs-3.22-bioc/R/bin/R CMD INSTALL immunoClust StartedAt: 2025-10-20 15:12:36 -0400 (Mon, 20 Oct 2025) EndedAt: 2025-10-20 15:13:02 -0400 (Mon, 20 Oct 2025) EllapsedTime: 26.2 seconds RetCode: 0 Status: OK