Package: immunoClust Version: 1.41.2 Command: /home/biocbuild/bbs-3.22-bioc/R/bin/R CMD build --keep-empty-dirs --no-resave-data --md5 immunoClust StartedAt: 2025-10-20 18:08:19 -0400 (Mon, 20 Oct 2025) EndedAt: 2025-10-20 18:11:36 -0400 (Mon, 20 Oct 2025) EllapsedTime: 197.2 seconds RetCode: 0 Status: OK PackageFile: immunoClust_1.41.2.tar.gz PackageFileSize: 2.508 MiB