Package: immunoClust Version: 1.41.0 Command: rm -rf immunoClust.buildbin-libdir && mkdir immunoClust.buildbin-libdir && /Users/biocbuild/BBS/utils/build-universal.sh immunoClust_1.41.0.tar.gz /Library/Frameworks/R.framework/Resources/bin/R immunoClust.buildbin-libdir StartedAt: 2025-05-10 00:51:41 -0400 (Sat, 10 May 2025) EndedAt: 2025-05-10 00:52:32 -0400 (Sat, 10 May 2025) EllapsedTime: 50.9 seconds RetCode: 0 Status: OK PackageFile: immunoClust_1.41.0.tgz PackageFileSize: 3.385 MiB