Package: immApex Version: 1.3.7 Command: /home/biocbuild/bbs-3.22-bioc/R/bin/R CMD INSTALL immApex StartedAt: 2025-10-12 15:22:25 -0400 (Sun, 12 Oct 2025) EndedAt: 2025-10-12 15:23:05 -0400 (Sun, 12 Oct 2025) EllapsedTime: 39.7 seconds RetCode: 0 Status: OK