Package: immApex Version: 1.3.7 Command: /home/biocbuild/bbs-3.22-bioc/R/bin/R CMD build --keep-empty-dirs --no-resave-data --md5 immApex StartedAt: 2025-10-10 18:22:27 -0400 (Fri, 10 Oct 2025) EndedAt: 2025-10-10 18:23:57 -0400 (Fri, 10 Oct 2025) EllapsedTime: 90.1 seconds RetCode: 0 Status: OK PackageFile: immApex_1.3.7.tar.gz PackageFileSize: 2.39 MiB