Package: imcRtools Version: 1.15.3 Command: /home/biocbuild/bbs-3.22-bioc/R/bin/R CMD INSTALL imcRtools StartedAt: 2025-10-10 15:34:52 -0400 (Fri, 10 Oct 2025) EndedAt: 2025-10-10 15:35:48 -0400 (Fri, 10 Oct 2025) EllapsedTime: 56.2 seconds RetCode: 0 Status: OK