Package: imcRtools Version: 1.15.3 Command: /home/biocbuild/bbs-3.22-bioc/R/bin/R CMD build --keep-empty-dirs --no-resave-data --md5 imcRtools StartedAt: 2025-10-10 18:22:21 -0400 (Fri, 10 Oct 2025) EndedAt: 2025-10-10 18:27:23 -0400 (Fri, 10 Oct 2025) EllapsedTime: 302.3 seconds RetCode: 0 Status: OK PackageFile: imcRtools_1.15.3.tar.gz PackageFileSize: 6.972 MiB