Package: imageTCGA Version: 1.3.0 Command: /home/biocbuild/bbs-3.23-bioc/R/bin/R CMD build --keep-empty-dirs --no-resave-data imageTCGA StartedAt: 2025-11-05 18:12:46 -0500 (Wed, 05 Nov 2025) EndedAt: 2025-11-05 18:12:59 -0500 (Wed, 05 Nov 2025) EllapsedTime: 13.0 seconds RetCode: 0 Status: OK PackageFile: imageTCGA_1.3.0.tar.gz PackageFileSize: 2.604 MiB