Package: imageTCGA Version: 1.1.1 Command: /Library/Frameworks/R.framework/Resources/bin/R CMD INSTALL imageTCGA StartedAt: 2025-10-21 15:15:16 -0400 (Tue, 21 Oct 2025) EndedAt: 2025-10-21 15:15:49 -0400 (Tue, 21 Oct 2025) EllapsedTime: 33.1 seconds RetCode: 0 Status: OK