Package: imageTCGA Version: 1.1.1 Command: /Library/Frameworks/R.framework/Resources/bin/R CMD build --keep-empty-dirs --no-resave-data imageTCGA StartedAt: 2025-10-21 17:44:12 -0400 (Tue, 21 Oct 2025) EndedAt: 2025-10-21 17:44:42 -0400 (Tue, 21 Oct 2025) EllapsedTime: 29.8 seconds RetCode: 0 Status: OK PackageFile: imageTCGA_1.1.1.tar.gz PackageFileSize: 2.604 MiB