Package: imageTCGA Version: 1.1.0 Command: /Library/Frameworks/R.framework/Resources/bin/R CMD INSTALL imageTCGA StartedAt: 2025-10-10 15:08:25 -0400 (Fri, 10 Oct 2025) EndedAt: 2025-10-10 15:08:32 -0400 (Fri, 10 Oct 2025) EllapsedTime: 7.2 seconds RetCode: 0 Status: OK