Package: imageTCGA Version: 1.1.0 Command: rm -rf imageTCGA.buildbin-libdir && mkdir imageTCGA.buildbin-libdir && /Users/biocbuild/BBS/utils/build-universal.sh imageTCGA_1.1.0.tar.gz /Library/Frameworks/R.framework/Resources/bin/R imageTCGA.buildbin-libdir StartedAt: 2025-10-12 22:40:46 -0400 (Sun, 12 Oct 2025) EndedAt: 2025-10-12 22:40:49 -0400 (Sun, 12 Oct 2025) EllapsedTime: 3.1 seconds RetCode: 0 Status: OK PackageFile: imageTCGA_1.1.0.tgz PackageFileSize: 1.832 MiB