Package: imageTCGA Version: 1.3.0 Maintainer: Ilaria Billato MaintainerEmail: ilaria.billato at phd.unipd.it git_url: https://git.bioconductor.org/packages/imageTCGA git_branch: devel git_last_commit: e8f9d8f git_last_commit_date: 2025-10-29 11:36:17 -0500 (Wed, 29 Oct 2025)