Package: illuminaio Version: 0.51.0 Command: chmod a+r illuminaio -R && F:\biocbuild\bbs-3.22-bioc\R\bin\R.exe CMD build --keep-empty-dirs --no-resave-data illuminaio StartedAt: 2025-08-14 20:54:03 -0400 (Thu, 14 Aug 2025) EndedAt: 2025-08-14 20:54:53 -0400 (Thu, 14 Aug 2025) EllapsedTime: 49.5 seconds RetCode: 0 Status: OK PackageFile: illuminaio_0.51.0.tar.gz PackageFileSize: 300.8 KiB