Package: illuminaio Version: 0.51.0 Maintainer: Kasper Daniel Hansen MaintainerEmail: kasperdanielhansen at gmail.com git_url: https://git.bioconductor.org/packages/illuminaio git_branch: devel git_last_commit: a9145c1 git_last_commit_date: 2025-04-15 10:16:25 -0400 (Tue, 15 Apr 2025)