Package: igvShiny Version: 1.5.0 Command: chmod a+r igvShiny -R && F:\biocbuild\bbs-3.22-bioc\R\bin\R.exe CMD build --keep-empty-dirs --no-resave-data igvShiny StartedAt: 2025-08-14 20:53:44 -0400 (Thu, 14 Aug 2025) EndedAt: 2025-08-14 20:54:46 -0400 (Thu, 14 Aug 2025) EllapsedTime: 61.9 seconds RetCode: 0 Status: OK PackageFile: igvShiny_1.5.0.tar.gz PackageFileSize: 4.22 MiB