Package: igvR Version: 1.29.0 Command: /home/biocbuild/R/R/bin/R CMD build --keep-empty-dirs --no-resave-data igvR StartedAt: 2025-10-03 00:42:28 -0000 (Fri, 03 Oct 2025) EndedAt: 2025-10-03 00:43:33 -0000 (Fri, 03 Oct 2025) EllapsedTime: 65.0 seconds RetCode: 0 Status: OK PackageFile: igvR_1.29.0.tar.gz PackageFileSize: 8.78 MiB