Package: igvR Version: 1.29.0 Command: /home/biocbuild/bbs-3.22-bioc/R/bin/R CMD INSTALL igvR StartedAt: 2025-10-17 16:00:05 -0400 (Fri, 17 Oct 2025) EndedAt: 2025-10-17 16:00:43 -0400 (Fri, 17 Oct 2025) EllapsedTime: 37.6 seconds RetCode: 0 Status: OK