Package: igvR Version: 1.29.0 Command: /Library/Frameworks/R.framework/Resources/bin/R CMD build --keep-empty-dirs --no-resave-data igvR StartedAt: 2025-09-30 17:23:46 -0400 (Tue, 30 Sep 2025) EndedAt: 2025-09-30 17:25:14 -0400 (Tue, 30 Sep 2025) EllapsedTime: 88.1 seconds RetCode: 0 Status: OK PackageFile: igvR_1.29.0.tar.gz PackageFileSize: 8.592 MiB