Package: igvR Version: 1.29.0 Command: rm -rf igvR.buildbin-libdir && mkdir igvR.buildbin-libdir && /Users/biocbuild/BBS/utils/build-universal.sh igvR_1.29.0.tar.gz /Library/Frameworks/R.framework/Resources/bin/R igvR.buildbin-libdir StartedAt: 2025-10-16 02:58:30 -0400 (Thu, 16 Oct 2025) EndedAt: 2025-10-16 02:59:31 -0400 (Thu, 16 Oct 2025) EllapsedTime: 61.3 seconds RetCode: 0 Status: OK PackageFile: igvR_1.29.0.tgz PackageFileSize: 6.392 MiB