Package: igvR Version: 1.29.0 Command: rm -rf igvR.buildbin-libdir && mkdir igvR.buildbin-libdir && /Users/biocbuild/BBS/utils/build-universal.sh igvR_1.29.0.tar.gz /Library/Frameworks/R.framework/Resources/bin/R igvR.buildbin-libdir StartedAt: 2025-10-08 22:51:07 -0400 (Wed, 08 Oct 2025) EndedAt: 2025-10-08 22:51:26 -0400 (Wed, 08 Oct 2025) EllapsedTime: 18.4 seconds RetCode: 0 Status: OK PackageFile: igvR_1.29.0.tgz PackageFileSize: 6.397 MiB