Package: igblastr Version: 1.1.2 Command: /home/biocbuild/bbs-3.23-bioc/R/bin/R CMD INSTALL igblastr StartedAt: 2025-11-24 15:31:08 -0500 (Mon, 24 Nov 2025) EndedAt: 2025-11-24 15:31:23 -0500 (Mon, 24 Nov 2025) EllapsedTime: 14.4 seconds RetCode: 0 Status: OK